BEGIN:VCALENDAR
VERSION:2.0
PRODID:-//舞象基金會｜Dancing With The Elephant - ECPv6.0.13//NONSGML v1.0//EN
CALSCALE:GREGORIAN
METHOD:PUBLISH
X-WR-CALNAME:舞象基金會｜Dancing With The Elephant
X-ORIGINAL-URL:https://www.dancing-with-the-elephant.com
X-WR-CALDESC:Events for 舞象基金會｜Dancing With The Elephant
REFRESH-INTERVAL;VALUE=DURATION:PT1H
X-Robots-Tag:noindex
X-PUBLISHED-TTL:PT1H
BEGIN:VTIMEZONE
TZID:America/Los_Angeles
BEGIN:DAYLIGHT
TZOFFSETFROM:-0800
TZOFFSETTO:-0700
TZNAME:PDT
DTSTART:20230312T100000
END:DAYLIGHT
BEGIN:STANDARD
TZOFFSETFROM:-0700
TZOFFSETTO:-0800
TZNAME:PST
DTSTART:20231105T090000
END:STANDARD
END:VTIMEZONE
BEGIN:VEVENT
DTSTART;TZID=America/Los_Angeles:20230620T180000
DTEND;TZID=America/Los_Angeles:20230620T200000
DTSTAMP:20260423T142524
CREATED:20230510T072918Z
LAST-MODIFIED:20241004T092405Z
UID:10000039-1687284000-1687291200@www.dancing-with-the-elephant.com
SUMMARY:【非暴力溝通簡介】（單堂）
DESCRIPTION:明明是想要清楚的表達自己，卻換來對方不理解的批評與指責？ \n總是想要避免衝突，周遭卻不斷地發生各種爭執和不愉快？ \n如果「暴力」指的是會造成傷害的行為，生活中有許多習以為常的溝通方式其實是暴力性的，例如：用好壞、是非、對錯作為判斷標準、根據怒氣偏見反應、指責、歧視、批評謾罵、侮辱、貶損、比較、分析和為人貼標籤等等。這些思考和溝通模式，導致情感和精神上的創傷，使人與自己、與他人之間的關係愈加疏離、冷漠，人際衝突也就在所難免。 \n每個人的價值觀和生活方式或許不同，卻有共同的感受和需要。忙碌的生活腳步，讓我們很難停下來思考每一句說出口的話。想要從自己開始，用更同理的溝通和理解，單純簡潔的把內在的心意告訴對方？非暴力溝通，使我們能真誠地表達自己，也能深入地傾聽他人，建立心與心之間的連結，無須妥協即可化解衝突，豐富彼此的生命。 \n陳梅慧老師從電腦工程師投身心理諮商，相信一個人若有機會被傾聽與理解，會提高個人的主體性與自我價值感，更有勇氣去面對自己的人生挑戰與考驗，成為更有力量的人。邀請您一起來理解非暴力溝通的基本概念與原則，促進成員與自己的靠近、與他人的連結。 \n \n\n【學習目標】\n理解非暴力溝通(又名善意溝通)的基本概念與原則，促進成員與自己的靠近、與他人的連結。 \n\n\n【講師簡介】\n陳梅慧 /Merian Chen \n學歷 \n◼ 國立清華大學教育心理與諮商碩士在職專班 \n◼ 國立臺灣大學電機工程研究所 \n◼ 國立交通大學電子工程系 學士 \n專業資格 \n◼ 中華民國諮商心理師高考合格（諮心字第003977號） \n現職 \n◼ 能清安欣身心科診所 諮商心理師 \n◼ 杜華心苑心理諮商所 諮商心理師、企業或學校心衛講師、遊戲治療師 \n◼ 台灣大學電資學院駐點心理師 \n◼ 新竹家扶中心方案諮商心理師 \n◼ 新竹張老師中心合作心理師、義張督導、企業或學校心衛講座講師 \n諮商輔導相關經歷 \n◼ 天主教藍天家園方案諮商心理師 \n◼ 現代婦女基金會親職課程合作講師 \n◼ 磐石中學親職讀書會帶領人、教師工作坊帶領人 \n◼ 元培大學心理健康講座講師 \n◼ 逢甲大學心理健康講座講師 \n◼ 交通大學心理健康講座講師 \n◼ 能清安欣身心科診所 全職實習心理師 \n◼ 聯合心理諮商所 兼職實習諮商心理師 \n其他經歷 \n◼ 凌陽科技 CAD工程師 近五年 \n◼ 優網通國際資訊 PM工程師 二年 \n◼ 華碩電腦 研發工程師 近五年 \n專業服務範疇 \n◼ 諮商哲學：以阿德勒、非暴力溝通及後現代取向的觀點來看待每一個人，認為一個人若有機會被傾聽、理解、接納後，會提高個人的主體性與自我價值感，更有 \n勇氣去面對自己的人生挑戰與考驗，成為更有力量的人。 \n◼ 專長領域：非暴力溝通、親子關係、親密關係、自我探索、憂鬱情緒、焦慮情緒、強迫行為、拒學、生涯選擇與探索、職場適應、失落與創傷、生命意義探索等議題。 \n◼ 服務對象：兒童、青少年、大專學生、成人、伴侶、親子、家庭、企業員工…等。 \n◼ 服務方式：個別諮商、伴侶或家庭諮商、企業員工諮詢、團體諮商、工作坊等。 \n\n【注意事項】 \n●本課程將提供錄影給報名會員，影片將於課程結束後三十天(或配合老師要求之指定時間)停止分享並不再開放。 \n●Youtube錄影僅授權給提供Gmail帳戶的學員，使用中國小鵝通需等待48小時審核通過。 \n●中國學員使用小鵝通App，請填寫手機號碼並閱讀【小鵝通回放聲明提醒】。\n \n\n●【小鵝通影片回放聲明提醒】 \n提醒中國地區學員，若影片上傳小鵝通被禁播且無法查明原因，付費課程錄影將無法觀看，報名課程前請評估是否願意承擔無法觀看影片之風險，謝謝。 \n\n【溫馨提醒】 \n●提問前請先參閱：Question reference \n●客服信箱： help.dancingwiththelephant@gmail.com \n●線上客服：Messenger \n\n【課程Zoom ID 及 密碼】 \n統一於課前三天公布在〈會員專區〉，舞象不主動提供，請於課前三天至課程記錄中查詢。 \n\n【查詢方式】\n登入會員專區→活動報名→報名紀錄→進行中課程→點擊欲查詢課程→右上角即該課程之〈Zoom ID & 密碼〉。 \n\n【Introduction to Nonviolent Communication】 (One lesson) Free\nInstructor: Chen Meihui\n【Lesson Goal】 \nTo understand the basic concepts and principles of nonviolent communication (also known as kind communication) in order to encourage members to get closer to themselves and to connect with others. \n【Course Outline】 \n* Key concerns of non-violent communication \n* Basic elements of non-violent communication \n* Application of non-violent communication in daily life \n【Instructor Introduction】 \nChen Meihui /Merian Chen \nEducation \n◼ On-the-job special class for Master of Educational Psychology and Counseling\, National Tsing Hua University \n◼ Institute of Electrical Engineering\, National Taiwan University \n◼ Bachelor of Electronic Engineering\, National Chiao Tung University \nProfessional qualifications \n◼ Passed the college entrance examination for counseling psychologists in the Republic of China (Zixin Zi No. 003977) \nCurrent positions \n◼ Provence Psychiatric Clinic Mental Health Department Counseling Psychologist \n◼ Dowd’s Love Psychological Counseling Center Counseling psychologist\, heart health lecturer for enterprises or schools\, and play-based therapist \n◼ Resident Psychologist at College of Electrical Engineering and Computer Science\, National Taiwan University \n◼ Hsinchu Family Support Center Counseling Psychologist \n◼ Collaborative psychologist at Teacher Zhang Center in Hsinchu\, supervisor of Yi Zhang\, lecturer of heart health lectures in enterprises or schools \nCounseling Related Experience \n◼ Counseling psychologist for the Catholic Blue Sky Home Program \n◼ Cooperative Lecturer of Parenting Course for Modern Women’s Foundation \n◼ Leader of Parent Book club and Teacher Workshop at Saint Peter Senior High School \n◼ Mental Health Lecturer\, Yuanpei University \n◼ Mental Health Lecturer\, Feng Chia University \n◼ Mental Health Lecturer\, Chiao Tung University \n◼ Full-time Intern Psychologist at Provence Psychiatric Clinic \n◼ Part-time Intern Counseling Psychologist at United Psychological Services \nOther Experiences \n◼ Sunplus Technology CAD Engineer for five years \n◼ UniSVR Global Information Technology Corp. PM Engineer for two years \n◼ R&D Engineer of ASUS Computer for five years \nProfessional Services \n◼ Counseling Philosophy: Look at everyone from the perspectives of Adler\, non-violent communication and postmodern orientation\, and believe that if a person has the opportunity to be listened to\, understood\, and accepted\, it will improve the individual’s subjectivity\, sense of self-worth\, and courage to face one’s own challenges and tests in life and to become a more powerful person. \n◼ Areas of expertise: non-violent communication\, parent-child relationship\, intimate relationship\, self-exploration\, depression\, anxiety\, compulsive behavior\, school refusal\, career choice and exploration\, workplace adaptation\, loss and trauma\, exploration of life meaning\, etc. \n◼ Clients: children\, teenagers\, college students\, adults\, couples\, parents and children\, families\, corporate employees\, etc. \n◼ Service methods: individual counseling\, couple or family counseling\, corporate employee counseling\, group counseling\, workshops\, etc.
URL:https://www.dancing-with-the-elephant.com/event/%e3%80%90%e9%9d%9e%e6%9a%b4%e5%8a%9b%e6%ba%9d%e9%80%9a%e7%b0%a1%e4%bb%8b%e3%80%91%ef%bc%88%e5%96%ae%e5%a0%82%ef%bc%89/
CATEGORIES:線上直播
ATTACH;FMTTYPE=image/jpeg:https://www.dancing-with-the-elephant.com/wp-content/uploads/2023/05/非暴力溝通簡介_B-的複本-1400-×-900-像素.jpg
END:VEVENT
BEGIN:VEVENT
DTSTART;TZID=America/Los_Angeles:20230616T183000
DTEND;TZID=America/Los_Angeles:20230616T203000
DTSTAMP:20260423T142524
CREATED:20230614T033510Z
LAST-MODIFIED:20241004T092428Z
UID:10000117-1686940200-1686947400@www.dancing-with-the-elephant.com
SUMMARY:【心智圖筆記學習法與軟體操作】(單堂)
DESCRIPTION:你曾經用心看了很多書，看到後面忘了前面? \n我們都習慣以抄寫完整句子來做筆記，但花時間又效果不彰。大腦的邏輯需要的是關鍵字跟連結，當記下太多資訊，只會增加負擔，不利於記憶。最有效的學習方式是利用心智圖表的方式，快速、大量寫下關鍵字，讓大腦快速連結與記憶。 \n本堂課會將傳統筆記與心智圖筆記做比較，讓大家了解其中差異。再運用心智圖的優勢及心智圖運用方式，逐一拆解、示範，讓學員了解如何有效透過心智圖的方法進行學習。 \n講師林佳逸也會示範心智圖軟體如何操作，上完這一堂可以實際學得軟體的基本操作模式，開始應用在各類知識的整理上。 \n為何要使用軟體呢? 和手繪心智圖各自優缺點又是什麼呢？不管為何，來參加本堂課程，兩種方法一起學好帶走！ \n本堂課是由講師林佳逸主講，曾在軍中服役13年，因為接觸到薩提爾等內在成長課程，開啟了進入生命教育殿堂的大門，透過各種學習豐盈自己之後，陸續將所學傳遞到台灣各地，轉而投身教育事業。現於高雄創立「心流逸境教育平台」並結合實體咖啡廳作為課程推廣基地，協助很多夥伴展開對話，並擅長以「心智圖」方式整理課程重點，於Youtube上分享各式學習影片。 \n讓我們一起運用心智圖，啟動高效學習的模式吧! \n \n\n【課程大綱】 \n\n傳統筆記與心智圖筆記比較\n心智圖的優勢\n心智圖運用方式\n各式課程、書籍心智圖筆記拆解\n心智圖軟體操作\n\n\n【現場實作示範教學學習目標】 \n\n認識心智圖筆記方式\n具備心智圖軟體基本操作能力\n開始啟動心智圖高效學習的模式\n\n\n\n【講師簡介】\n林佳逸 \n英文姓名：Lin Chia Yi \n曾在軍中服役13年，因為接觸到POY牌卡、薩提爾等內在成長課程，逐步踏入生命教育的殿堂，並開始陸續在台灣各地辦課，遂於軍旅役期將滿前半年選擇賠錢離開，投身教育事業。 \n現於高雄創立「心流逸境教育平台」並結合實體咖啡廳作為課程推廣基地，並擅長以「心智圖」方式整理課程重點，於Youtube上分享各式學習影片，近期更受邀至政府機關學校與上市櫃公司講演、帶課。 \n\n【注意事項】 \n●本課程將提供錄影給報名會員，影片將於課程結束後三十天(或配合老師要求之指定時間)停止分享並不再開放。 \n●Youtube錄影僅授權給提供Gmail帳戶的學員，使用中國小鵝通需等待48小時審核通過。 \n●中國學員使用小鵝通App，請填寫手機號碼並閱讀【小鵝通回放聲明提醒】。 \n●免費課程不提供錄影回放及課程資料。 \n●進入課程請填報名姓名，課程開始10分鐘後點名，若核對不到報名資料5分鐘後會移至等候室，未免中斷上課請更改名稱，需要協助請聯絡客服或主持人。 \n●尊重著作權，請勿錄影、錄音、截圖，經查獲將取消會員資格。 \n\n●【小鵝通影片回放聲明提醒】 \n提醒中國地區學員，若影片上傳小鵝通被禁播且無法查明原因，付費課程錄影將無法觀看，報名課程前請評估是否願意承擔無法觀看影片之風險，謝謝。 \n\n【溫馨提醒】 \n●提問前請先參閱：FAQ   \n●客服信箱： help.dancingwiththelephant@gmail.com \n●線上客服：Messenger \n\n【課程Zoom ID 及 密碼】 \n統一於課前三天公布在〈會員專區〉，舞象不主動提供，請於課前三天至〈付費內容〉中查詢。 \n\n【ZOOM ID 查詢方式】\n登入會員專區→ 所有購買紀錄→ 訂單編號→ 點選課程→ 付費內容 顯示〈Zoom ID & 密碼〉。 \n\n#舞象Youtube：https://bit.ly/3ZSgehh \n#舞象instagram ： https://bit.ly/3TlVKLJ \n#舞象Facdbook：https://bit.ly/3LzW4od \n\n[Mind Map Note-Taking Learning Method and Software Operation] (Single session)\nSpeaker: Lin Chia Yi \n[Lesson Outline] \n●Comparison between traditional notes-taking and mind map notes-taking \n●Advantages of mind map \n●How to use mind map \n●Analysis of mind map notes for various courses and books \n●Mind map software operation  \n●On-site demonstration teaching  \n[Learning Objectives] \n●To learn the mind map note-taking method \n●To have the basic operation ability of mind map software \n●To initiate the efficient learning mode of mind map \n\n[Resume] \nEnglish name: Lin\, Chia Yi \nServed in the military for 13 years. Because of the inner growth courses such as POY cards and Satir\, he gradually stepped into the palace of life education\, and began to hold courses in various places in Taiwan\, so he chose to lose money and leave the military service half a year before the end of his service to devote himself to education. \nCurrently in Kaohsiung\, he has founded “ComFlow BMS Education Center” and has combined with actual cafes as course promotion bases. He is good at organizing the key points of courses using the “mind maps” method\, sharing various learning videos on Youtube\, and was recently invited to government agencies\, schools and public companies to give seminars and courses.
URL:https://www.dancing-with-the-elephant.com/event/%e3%80%90%e5%bf%83%e6%99%ba%e5%9c%96%e7%ad%86%e8%a8%98%e5%ad%b8%e7%bf%92%e6%b3%95%e8%88%87%e8%bb%9f%e9%ab%94%e6%93%8d%e4%bd%9c%e3%80%91%e5%96%ae%e5%a0%82/
CATEGORIES:線上直播
ATTACH;FMTTYPE=image/jpeg:https://www.dancing-with-the-elephant.com/wp-content/uploads/2023/06/心智圖筆記學習法與軟體操作_A_橫式.jpg
END:VEVENT
BEGIN:VEVENT
DTSTART;TZID=America/Los_Angeles:20230613T180000
DTEND;TZID=America/Los_Angeles:20230613T200000
DTSTAMP:20260423T142524
CREATED:20230614T030702Z
LAST-MODIFIED:20241004T092452Z
UID:10000116-1686679200-1686686400@www.dancing-with-the-elephant.com
SUMMARY:【看看我的多重樣貌-談自我的形成】（單堂）
DESCRIPTION:你是誰？在人生的劇場裡，你扮演了哪些角色？子女、手足、家長、伴侶、學生、同事、員工、主管、房客、消費者… \n每個「我」都是在「角色」中建構出來的，比如說我有女兒的角色，相對於這個角色就會有一位我的媽媽，也因此有了母女關係，綜合許多的角色，形成多段的關係，這些關係的交織就形成我這個人。 \n【看看我的多重樣貌-談自我的形成】邀請到認證合格心理劇導演姚珮華心理師，帶我們透過塗鴉，反思與梳理自己的各種角色臉譜，更理解自己，鬆綁關係中的限制，創造更多的可能性，從緊繃到放鬆、從僵化到冷靜，做一個自在流動的自己！ \n\n【課程大綱】\n每個「我」都是在「角色」中建構出來的，比如說我有女兒的角色，相對於這個角色就會有一位我的媽媽，也因此有了母女關係，綜合許多的角色，就會形成多段的關係，這些關係的交織就形成我這個人。 \n\n【學習目標】 \n透過塗鴉，反思與梳理自己的各種角色臉譜，更理解自己，鬆綁關係中的限制，創造更多的可能性，從緊繃到放鬆、從僵化到chill，做一個自在流動的自己！ \n\n \n【講師介紹】 \n姚珮華 / Yao\, Pei-Hua \n【學經歷】 \n⚫ 學歷：中國文化大學日間部心理輔導系碩士班 \n⚫ 現職：話嶼心理諮商所 專任心理師 (2023年迄今) \n⚫ 經歷：馬偕紀念醫院協談中心 專任 (2010年2022年) \n\n【專業證照】 \n⚫ 2010年 中華民國諮商心理師高考通過 諮心字第 1491 號 \n⚫ 2017年 美國心理劇社會計量與團體心理治療考試委員會 \n（ American Board of Examiners in Psychodrama\, Sociometry and Group Psychotherapy ） \n認證合格心理劇導演 (Certified) \n\n【帶領經驗】 \n社福 ╴機構在職教育/ 志工訓練/ 團體帶領者 \n學校 ╴心理衛生講座/ 成長團體帶領者 \n企業 ╴場域心衛 /教育講師 \n教會 ╴場域心理/課程講師 \n海外 ╴中國、馬來西亞等/教學經驗 \n\n【注意事項】 \n●本課程將提供錄影給報名會員，影片將於課程結束後三十天(或配合老師要求之指定時間)停止分享並不再開放。 \n●Youtube錄影僅授權給提供Gmail帳戶的學員，使用中國小鵝通需等待48小時審核通過。 \n●中國學員使用小鵝通App，請填寫手機號碼並閱讀【小鵝通回放聲明提醒】。 \n●免費課程不提供錄影回放及課程資料。 \n●進入課程請填報名姓名，課程開始10分鐘後點名，若核對不到報名資料5分鐘後會移至等候室，未免中斷上課請更改名稱，需要協助請聯絡客服或主持人。 \n●尊重著作權，請勿錄影、錄音、截圖，經查獲將取消會員資格。 \n\n●【小鵝通影片回放聲明提醒】 \n提醒中國地區學員，若影片上傳小鵝通被禁播且無法查明原因，付費課程錄影將無法觀看，報名課程前請評估是否願意承擔無法觀看影片之風險，謝謝。 \n\n【溫馨提醒】 \n●提問前請先參閱：FAQ   \n●客服信箱： help.dancingwiththelephant@gmail.com \n●線上客服：Messenger \n\n【課程Zoom ID 及 密碼】 \n統一於課前三天公布在〈會員專區〉，舞象不主動提供，請於課前三天至〈付費內容〉中查詢。 \n\n【ZOOM ID 查詢方式】\n登入會員專區→ 所有購買紀錄→ 訂單編號→ 點選課程→ 付費內容 顯示〈Zoom ID & 密碼〉。 \n\n#舞象Youtube：https://bit.ly/3ZSgehh \n#舞象instagram ： https://bit.ly/3TlVKLJ \n#舞象Facdbook：https://bit.ly/3LzW4od \n\nCheck My Multiple Presentations – the Formation of “Self” (One Session)\nInstructor:  Ms. Pei-Hua Yao\nClass Overview: \nEach “person ” exists within multiple “roles”. For example\, I have the role of being a daughter\, which means that my mother is related to me in my  role\, thus forming a mother-daughter relationship. Since one person has many roles\, these roles define  who I am as a person\, but these roles also create many relationships with the others who are involved in my roles. . \nLearning objective: \nWe can better understand ourselves by loosening the restrictions in our relationships\, and by creating more possibilities. Techniques to loosen these restrictions include doodling and taking time to reflect upon and sort out the various roles we play in our own lives .  By using these techniques to free up our thinking\, we can begin to transition from being tense to relaxed\, from being rigid to adaptable \, and allowing us to become a more free-flowing and authentic self! \nInstructor:  Yao\, Pei-Hua \nEducation and Experience: \n•     Education: Master’s Program in Psychological Counseling at Chinese Culture University\, Daytime Division \n•     Current Position: Full-time Psychologist at Hua Yu Counseling Center (since 2023) \n•     Experience: Full-time at Mackay Memorial Hospital Counseling Center (2010-2022) \nProfessional Licenses: \n•     Counseling Psychologist in Taiwan  since2010\, license number 1491. \n•      Certified Psychodramatist  by American Board of Examiners in Psychodrama\, Sociometry\, and Group Psychotherapy since 2017.
URL:https://www.dancing-with-the-elephant.com/event/%e3%80%90%e7%9c%8b%e7%9c%8b%e6%88%91%e7%9a%84%e5%a4%9a%e9%87%8d%e6%a8%a3%e8%b2%8c-%e8%ab%87%e8%87%aa%e6%88%91%e7%9a%84%e5%bd%a2%e6%88%90%e3%80%91%ef%bc%88%e5%96%ae%e5%a0%82%ef%bc%89/
ATTACH;FMTTYPE=image/jpeg:https://www.dancing-with-the-elephant.com/wp-content/uploads/2024/04/舞象封面.jpeg
END:VEVENT
BEGIN:VEVENT
DTSTART;TZID=America/Los_Angeles:20230609T183000
DTEND;TZID=America/Los_Angeles:20230609T203000
DTSTAMP:20260423T142524
CREATED:20230614T024851Z
LAST-MODIFIED:20241004T092522Z
UID:10000115-1686335400-1686342600@www.dancing-with-the-elephant.com
SUMMARY:《樂齡族力量訓練的第一本書》新書分享會：為何只有運動不夠，還需要訓練？
DESCRIPTION:為了獨立、健康的「樂齡生活」，你願意做什麼？ \n除了培養興趣嗜好，含飴弄孫，遊山玩水，「你的身體」已經準備好了嗎？ \n現代人常見「三高」和「血糖」和「體重」控制等慢性病問題，還有人體肌肉會從三十歲開始慢慢流失，六十歲後速度加劇，容易引發「肌少症」，造成行動不便、增加跌倒風險、關節疼痛等問題。歸納這些問題的解方，不外乎都有一個答案：運動。\n \n大家都知道運動重要，但最大的障礙是「不知道怎麼開始運動」？「散步」算是運動嗎？只有散步的身體能夠應付突發狀況嗎？ \n舞象基金會邀請華人地區知名「耐力運動教練」同時也是「運動科學作家」的徐國峰老師為大家介紹如何入門，並有規律持續運動。\n \n國峰老師著作與譯作合起來⽬前已完成⼗三本 ，學生與讀者遍及兩岸與全世界各地各地，投入游泳、自行車、跑步和鐵人三項等耐力運動的教學訓練和教育工作超過十年，2019創立KFCS(Kuo Feng Coaching System)在華人地區培訓多位教練，亦曾協助 Giant 捷安特、Garmin 佳明、Under Armour 安德瑪等企業做品牌推廣或教育培育。 \n高齡化社會即將來臨，國峰老師將與我們分享「樂齡族力量訓練」，藉由簡單動作控制三高、血糖、體重，讓我們未來活動自如不跌倒、情緒穩定、日日好眠。 \n \n\n【課程⼤綱 】 \n長壽，不⼀定有好的⽣活品質，如何保證中年以後的⽣活品質？  \n▷ 何謂樂齡族。  \n▷ 如何成為名副其實的樂齡族？  \n▷ 主動維持強健：治病是被動 vs. 訓練是主動  \n▷ 界義阻⼒訓練 vs. 重量訓練 vs. ⼒量訓練  \n▷ 如何開始？⼀開始先不求效果，從享動到想動  \n▷ 預防跌倒，需要肌⼒、活動度和平衡感訓練  \n▷ 預防失智，需要訓練  \n▷ 從「享」動到「想」動  \n\n【學習⽬標 】 \n了解「運動」跟「訓練」之間的差異  \n認識到不⼀定辛苦才會有效果，在舒適圈範圍內 ⼀樣有助保持⾝體強健  \n\n \n【講師簡介】 \n徐國峰 / Hsu Kuo Feng  \n【個⼈簡歷】  \n畢業於清華⼤學化⼯系（外⽂輔系） \n東華⼤學中⽂研究所  \n曾擔任東華⼤學鐵⼈三項隊教練 跑步分析軟體RQ共同創辦⼈  \n擔任臉譜出版KFCS運動系主編  \n主要⼯作是寫作與翻譯  \n著作與譯作合起來⽬前已完成⼗三本 \n\n【注意事項】 \n●本課程將提供錄影給報名會員，影片將於課程結束後三十天(或配合老師要求之指定時間)停止分享並不再開放。 \n●Youtube錄影僅授權給提供Gmail帳戶的學員，使用中國小鵝通需等待48小時審核通過。 \n●中國學員使用小鵝通App，請填寫手機號碼並閱讀【小鵝通回放聲明提醒】。 \n●免費課程不提供錄影回放及課程資料。 \n●進入課程請填報名姓名，課程開始10分鐘後點名，若核對不到報名資料5分鐘後會移至等候室，未免中斷上課請更改名稱，需要協助請聯絡客服或主持人。 \n●尊重著作權，請勿錄影、錄音、截圖，經查獲將取消會員資格。 \n\n●【小鵝通影片回放聲明提醒】 \n提醒中國地區學員，若影片上傳小鵝通被禁播且無法查明原因，付費課程錄影將無法觀看，報名課程前請評估是否願意承擔無法觀看影片之風險，謝謝。 \n\n【溫馨提醒】 \n●提問前請先參閱：FAQ   \n●客服信箱： help.dancingwiththelephant@gmail.com \n●線上客服：Messenger \n\n【課程Zoom ID 及 密碼】 \n統一於課前三天公布在〈會員專區〉，舞象不主動提供，請於課前三天至〈付費內容〉中查詢。 \n\n【ZOOM ID 查詢方式】\n登入會員專區→ 所有購買紀錄→ 訂單編號→ 點選課程→ 付費內容 顯示〈Zoom ID & 密碼〉。 \n\n#舞象Youtube：https://bit.ly/3ZSgehh \n#舞象instagram ： https://bit.ly/3TlVKLJ \n#舞象Facdbook：https://bit.ly/3LzW4od \n\n《The First Book of Strength Training for the Elderly》 Book Launch: Why Exercise Is Not Enough\, Why Training Is Also Necessary? (One Session)\nSpeaker: Hsu Kuo Feng\n【Course Outline】 \nLongevity does not guarantee a good quality of life. How can we ensure a good quality of life after middle age? \n▷ How do you define who is a senior citizen? \n▷ How can you become a genuinely happy and contented senior citizen? \n▷ Actively maintain physical fitness: Treatment is passive vs. Training is active \n▷ Resistance training vs. Weight training vs. Power training \n▷ How do you get started with physical training? Don’t focus on the results at the very beginning\, instead start with enjoyable physical activities and progress to more desired activities▷ Prevention of falls requires training to preserve muscle strength\, agility\, and balance.  \n▷ Prevention of dementia requires training \n▷ You want to progress from “enjoying” to “wanting” to move \n【Learning Objectives】 \nUnderstand the difference between “exercise” and “training” \nRealize that expanding beyond  one’s physical comfort zone may also help maintain physical fitness \n\n【Speaker】 \nHsu Kuo Feng \n【Personal Background】 \nGraduated from the Chemical Engineering Department of Tsinghua University (with a minor in foreign languages) \nMaster’s degree in Chinese Studies from Nationsl Dong Hwa University \nFormer coach of the Triathlon team at National Dong Hwa University \nCo-founder of the running analysis software RQ \nEditor-in-chief of the KFCS Sports Series at Faces Publishing LTD \nCurrently has completed thirteen books through writing and translation
URL:https://www.dancing-with-the-elephant.com/event/%e3%80%8a%e6%a8%82%e9%bd%a1%e6%97%8f%e5%8a%9b%e9%87%8f%e8%a8%93%e7%b7%b4%e7%9a%84%e7%ac%ac%e4%b8%80%e6%9c%ac%e6%9b%b8%e3%80%8b%e6%96%b0%e6%9b%b8%e5%88%86%e4%ba%ab%e6%9c%83%ef%bc%9a%e7%82%ba%e4%bd%95/
CATEGORIES:線上直播
ATTACH;FMTTYPE=image/jpeg:https://www.dancing-with-the-elephant.com/wp-content/uploads/2023/06/樂齡族力量訓練的第一本書_A-橫式.jpg
END:VEVENT
BEGIN:VEVENT
DTSTART;TZID=America/Los_Angeles:20230520T180000
DTEND;TZID=America/Los_Angeles:20230520T200000
DTSTAMP:20260423T142524
CREATED:20230518T042939Z
LAST-MODIFIED:20241004T092739Z
UID:10000104-1684605600-1684612800@www.dancing-with-the-elephant.com
SUMMARY:【羨慕、嫉妒與我們的故事】（單堂）
DESCRIPTION:「哇，恭喜高升呀！」「令子高中名校，真棒呀！」在真誠恭喜朋友成功的同時，內心會不會也有小小羨慕，或者，有點嫉妒？ \n這種心理反應會教你困擾不安嗎？明明替對方高興，為什麼又為自己懊惱？其實，「羨慕」和「嫉妒」，都是人類再自然不過的心理狀態。但是，我們曾經貼近去了解過它們嗎？ \n母性精神分析學者：梅蘭妮·克萊恩（Melanie Klein ）曾於她的著作《嫉羨與感恩》中詳細探討人類「羨慕」和「嫉妒」的情感，它們存在於我們心理底層本能中，來自於我們嬰兒時期，是「與生俱來的」古老傳承。 \n曾受邀多場心理、社會學與哲學相關講座，同時也是《愛欲與文明》譯者、國立臺北護理健康大學約聘講師林晴晴，將帶我們一起探討這個難得的主題，分析「羨慕」和「嫉妒」的情緒，看看它們在古老神話故事中的樣貌，追溯它們的來源，以及這種「不舒服的感覺」對我們生命的意義。 \n了解自己情緒的各種面貌，反思文化慣性的盲點和束縛，跟著老師共同神遊遠古的神話故事、檢視近代的精神分析，讓我們更自在、無畏地面對這些真實可愛的本能反應，更平靜、自然地接受生活中種種的情緒挑戰！ \n\n【學習目標】 \n認識羨慕和嫉妒在精神分析和古老神話故事中的樣貌，激發更多對情緒生活的思考。 \n【專有名詞】 \n羨嫉/羨慕 Envy \n嫉妒 Jealousy  \n感恩 Gratitude  \n怨懟 Grievance \n潛抑 Repression \n破壞衝動 destructive impulses \n【講師簡介】\n林晴晴Ching-Ching Lin （Rose Lin） \n【個人簡歷】\n國立臺北護理健康大學約聘講師。 \n國立交通陽明大學「婦女暨兒童護理臨床研究所」碩士。 \n《愛欲與文明》（Eros and Civilization) 譯者。 \n曾受邀多場心理學與社會學與哲學相關線上與實體講座。 \n於國立醫學中心醫療服務逾十五年，曾參與多項研究，致力於探討婦女及兒童社會心理健康議題。育有一女一子，擅長將理論融入生活思考，並於主流框架外尋得無畏、自在的可能性。 \n \n\n【Envy\, jealousy\, and our own story】（1 session）\nInstructor：Ching-Ching Lin （Rose Lin）\n【Course Outline】\nHave you ever felt “envious” or “jealous” of others? \nMelanie Klein (1882-1960)\, a psychoanalyst specializing in maternal psychology\, devoted herself to exploring human emotions of “envy” and “jealousy”. In her work “Envy and Gratitude” (1957)\, she detailed her observations on these emotions. She believed that these emotions exist in our deepest psychological instincts and are ancient\, innate\, and inherited\, originating from our infantile object relationships. \nIn other words\, for each of us\, envy and jealousy are normal psychological states. However\, why is it that when we encounter them\, we often cannot coexist naturally with them\, but instead find ourselves deeply entrenched and troubled by them? The key reason is that we have not truly understood the origin of envy and jealousy or the meaning of this “uncomfortable feeling” in our lives. \nIn this course\, we will use psychoanalytic theory and mythological stories to understand the true nature of envy and jealousy. Through this\, we can reflect on the blind spots in our social and cultural context and habitual ways of living\, enabling us to face these real emotional reactions more freely and fearlessly. \n【Learning Objectives】\nUnderstand tenvy and jealousy in psychoanalytic theory and ancient mythology\, and stimulate more thoughts on emotional life. \n【Specialized Terminology】\nEnvy  \nJealousy  \nGratitude  \nGrievance  \nRepression \nDestructive impulses  \n【Instructor】\nChing-Ching Lin (Rose Lin) \nLecturer at National Taipei University of Nursing and Health Sciences.  \nInstitute of Women and Children’s Nursing\, National Yang-Ming Chiao Tung University\, Master’s degree  \nMs. Lin is the translator of “Eros and Civilization.” She has been invited to speak at numerous online and offline lectures on psychology\, sociology\, and philosophy. Having spent over 15 years in medical services at National Medical Center\, she has ben devoted to exploring social and psychological health issues related to women and children. She has two children and is skilled at integrating theory into life and seeking efearless and free possibilities beyond mainstream frameworks. \n\n【溫馨提醒】 \n●提問前請先參閱：Question \n●客服信箱： help.dancingwiththelephant@gmail.com \n●線上客服：Messenger \n\n【課程Zoom ID 及 密碼】 \n原官網：統一於課前三天公布在〈會員專區〉，舞象不主動提供，請於課前三天至課程記錄中查詢。 \n新官網：請詳閱課程公告時間，於課前查詢。 \n\n【查詢方式】 \n原官網：登入會員專區→活動報名→報名紀錄→進行中課程→點擊欲查詢課程→右上角即該課程之〈Zoom ID & 密碼〉。 \n新官網：登入會員頁面查詢課程資料\n \n\n【注意事項】請詳細閱讀： \n●免費課程無錄影回放，無提供簡報 \n●請珍惜課程資源，為您的選擇負責，請準時上線
URL:https://www.dancing-with-the-elephant.com/event/%e3%80%90%e7%be%a8%e6%85%95%e3%80%81%e5%ab%89%e5%a6%92%e8%88%87%e6%88%91%e5%80%91%e7%9a%84%e6%95%85%e4%ba%8b%e3%80%91%ef%bc%88%e5%96%ae%e5%a0%82%ef%bc%89/
CATEGORIES:線上直播
ATTACH;FMTTYPE=image/jpeg:https://www.dancing-with-the-elephant.com/wp-content/uploads/2023/07/未命名設計-2.jpg
END:VEVENT
BEGIN:VEVENT
DTSTART;TZID=America/Los_Angeles:20230505T170000
DTEND;TZID=America/Los_Angeles:20230505T180000
DTSTAMP:20260423T142524
CREATED:20230714T231251Z
LAST-MODIFIED:20241004T035737Z
UID:10000186-1683306000-1683309600@www.dancing-with-the-elephant.com
SUMMARY:【學會冰山理論-52週薩提爾對話實踐】一週一練習 (14-26週)
DESCRIPTION:【學會冰山理論-52週薩提爾對話實踐】一週一練習 (14-26週)
URL:https://www.dancing-with-the-elephant.com/event/%e3%80%90%e5%ad%b8%e6%9c%83%e5%86%b0%e5%b1%b1%e7%90%86%e8%ab%96-52%e9%80%b1%e8%96%a9%e6%8f%90%e7%88%be%e5%b0%8d%e8%a9%b1%e5%af%a6%e8%b8%90%e3%80%91%e4%b8%80%e9%80%b1%e4%b8%80%e7%b7%b4%e7%bf%92-14-26-2/
CATEGORIES:線上直播
ATTACH;FMTTYPE=image/png:https://www.dancing-with-the-elephant.com/wp-content/uploads/2023/07/0701-21.png
END:VEVENT
END:VCALENDAR