BEGIN:VCALENDAR
VERSION:2.0
PRODID:-//舞象基金會｜Dancing With The Elephant - ECPv6.0.13//NONSGML v1.0//EN
CALSCALE:GREGORIAN
METHOD:PUBLISH
X-ORIGINAL-URL:https://www.dancing-with-the-elephant.com
X-WR-CALDESC:Events for 舞象基金會｜Dancing With The Elephant
REFRESH-INTERVAL;VALUE=DURATION:PT1H
X-Robots-Tag:noindex
X-PUBLISHED-TTL:PT1H
BEGIN:VTIMEZONE
TZID:America/Los_Angeles
BEGIN:DAYLIGHT
TZOFFSETFROM:-0800
TZOFFSETTO:-0700
TZNAME:PDT
DTSTART:20230312T100000
END:DAYLIGHT
BEGIN:STANDARD
TZOFFSETFROM:-0700
TZOFFSETTO:-0800
TZNAME:PST
DTSTART:20231105T090000
END:STANDARD
END:VTIMEZONE
BEGIN:VEVENT
DTSTART;TZID=America/Los_Angeles:20230607T180000
DTEND;TZID=America/Los_Angeles:20230704T200000
DTSTAMP:20260423T172600
CREATED:20230614T020716Z
LAST-MODIFIED:20241004T092604Z
UID:10000114-1686160800-1688500800@www.dancing-with-the-elephant.com
SUMMARY:【父母從心學—如何讓孩子快樂又自信】(4堂)
DESCRIPTION:家中有12歲以下的孩子嗎? 您都如何面對孩子的叛逆、不聽話、情緒暴走、或是沒自信呢?  \n俗話說得好，「養魚重在養水，養樹重在養根，養孩子重在養心」。 \n每位父母都希望自己成為「夠好」的父母，希望孩子能快樂的成長。 \n但要如何養育孩子的內心，使其堅韌而善良，自信而快樂呢？馬來西亞林文采博士提出，孩子的健康成長除了補給身體所需要的營養，更重要的是給予足夠的「心理營養」去滋養。 當心理營養充足，孩子就不易出現偏差行為，親子關係也得以越來越靠近。 \n推廣薩提爾模式自我成長，親子教育多年的「從心RESTART」創辦人葉麗微老師，將在課堂上帶領大家重新學習：孩子是怎麼長大的？情緒到底是什麼？透過「滋養、傾聽、表達、解毒」與孩子建立良好的關係，以及如何教養天生氣質不同的孩子。此外，老師特別提供親自錄製的「肯定、讚美、認同」視頻，將陪伴學員持續執行21天，打下基礎並實踐在日常生活中，讓課程效果加倍！ \n父母從心學，跟著老師重新學，讓孩子快樂又自信，擁有更好的親子關係。 \n\n【課程對象】 \n養育12歲以下孩子，想學習成長的父母 \n面對孩子沒自信，不知道該如何的父母 \n孩子叛逆、不聽話，不知道該如何溝通 \n孩子情緒暴走，想知道該怎麼做的父母 \n【課程說明】 \n 俗話說：養魚重在養水，養樹重在養根，養孩子重在養心。 \n 每位父母都希望自己成為「夠好」的父母，希望孩子能快樂的成長，但該如何養育孩子的內心，使其堅韌而善良，自信而快樂呢？ \n 讓孩子健康成長除了補給身體所需要的營養外，更重要的是給予足夠的「心理營養」去滋養他。 當心理營養充足，孩子才不易出現偏差行為，親子關係也得以越來越靠近。 幸福的童年療愈一生。 \n 心理營養概念來自於馬來西亞林文采博士，這理念幫助了上萬個家庭得到良好親子關係。 \n \n\n 【課程大綱】 \n ❓孩子是怎麼長大的 \n -心理營養的五個階段：不同階段的心理需求 \n -不同階段的養育策略與重點 \n ❓情緒到底是什麼 \n 了解情緒的原貌 \n 從識別＞探索＞選擇 \n ❓與孩子關係好的核心 \n -滋養 \n -傾聽 \n -表達 \n -解毒-3不做 \n ❓孩子天生氣質不同如何教養 \n -4個天生的氣質 \n -4個養育重點 \n\n【課程附加練習】 \n老師親自錄製肯定、讚美、認同的視頻，每天一個視頻，觀看後實踐在日常裡，持續21天執行並打卡，葉麗微老師陪您打下基礎，扎實21天練習讓課程效果加倍。 \n\n \n【講師介紹】： \n葉麗微 /Yap Li Wei \n從心RESTART的創辦人 / 心靈教育工作者 / family therapy practitioner \n2013年開始學習薩提亞轉化模式專業文憑課程 \n2017年薩提亞家庭心理治療高級文憑Adv Dip Satir Transformational Systemic Therapy (STST) \n2017-2019專欄作者 \n媽媽寶貝雜誌 – 寫關於兩性關係(Couple Therapy) \n也被邀請上8TV 夏娃日記本，談如何做好癌症病患照顧者的角色。 \n持有Train The Trainer (TTT)  Cert \n各級學校義務輔導員 \n受小學邀請談師生溝通教育，小學生情緒管理 \n推廣薩提亞模式自我成長，親子教育。 \n\n【注意事項】 \n●本課程將提供錄影給報名會員，影片將於課程結束後三十天(或配合老師要求之指定時間)停止分享並不再開放。 \n●Youtube錄影僅授權給提供Gmail帳戶的學員，使用中國小鵝通需等待48小時審核通過。 \n●中國學員使用小鵝通App，請填寫手機號碼並閱讀【小鵝通回放聲明提醒】。 \n●免費課程不提供錄影回放及課程資料。 \n●進入課程請填報名姓名，課程開始10分鐘後點名，若核對不到報名資料5分鐘後會移至等候室，未免中斷上課請更改名稱，需要協助請聯絡客服或主持人。 \n●尊重著作權，請勿錄影、錄音、截圖，經查獲將取消會員資格。 \n\n●【小鵝通影片回放聲明提醒】 \n提醒中國地區學員，若影片上傳小鵝通被禁播且無法查明原因，付費課程錄影將無法觀看，報名課程前請評估是否願意承擔無法觀看影片之風險，謝謝。 \n\n【溫馨提醒】 \n●提問前請先參閱：FAQ   \n●客服信箱： help.dancingwiththelephant@gmail.com \n●線上客服：Messenger \n\n【課程Zoom ID 及 密碼】 \n統一於課前三天公布在〈會員專區〉，舞象不主動提供，請於課前三天至〈付費內容〉中查詢。 \n\n【ZOOM ID 查詢方式】\n登入會員專區→ 所有購買紀錄→ 訂單編號→ 點選課程→ 付費內容 顯示〈Zoom ID & 密碼〉。 \n\n#舞象Youtube：https://bit.ly/3ZSgehh \n#舞象instagram ： https://bit.ly/3TlVKLJ \n#舞象Facdbook：https://bit.ly/3LzW4od \n\n“Parents Learn from the Heart – How to Raise Happy and Confident Children” (4 sessions) \nInstructor:  LiWei Ya\nThere is a saying: when raising fish\, the focus is on the quality of water; when growing trees\, the focus is on the strength of roots; when raising children\, the focus is on nurturing their hearts. Every parent hopes to be a “good enough” parent\, and wants their children to grow up happily. But how can we raise  our children so that they become resilient\, kind\, confident\, and happy? \nTo help children grow up healthy\, it is important to provide them with enough “psychological nutrition” to nourish their minds. When there is sufficient psychological nutrition\, children are less likely to exhibit deviant behavior\, and the parent-child relationship can become closer. A happy childhood can heal a lifetime. \nThe concept of psychological nutrition comes from Dr. Lin Wen-tsai of Malaysia\, and this concept has helped thousands of families build better parent-child relationships. \n[Course Targets ] \n\n\nParents of children under 12 who want to learn about parenting and growth \n\n\nParents who face children who lack confidence and don’t know what to do \n\n\nParents whose children are rebellious\, disobedient\, and have difficulty communicating \n\n\nParents who want to know what to do when their children have emotional outbursts \n\n\n[Course Outline] \n◆How do children grow up? \nThe five stages of psychological nutrition: different psychological needs at different stages \nDifferent parenting strategies and focuses for each stage \n◆ What exactly are emotions? \nUnderstanding the true nature of emotions \nFrom recognition\, exploration\, to choice \n◆The core of a good relationship with children \nMental Nourishment \nListening \nExpression \nDetoxif \nication – 3 things to avoid \n◆How to raise children with different innate temperaments \nFour innate temperaments \nFour parenting focuses. \n[Additional Course Exercise] \nThe teacher will personalyl record videos of affirmation\, praise\, and recognition\, one video per day. After watching the video\, practice it in your daily life for 21 days and mark your progress. Teacher Ye Liwei will accompany you for 21 days. \n\n[Lecturer Introduction]: \nYap Li Wei\, Founder of “Restart From Heart”\, Spiritual Educator\, and Family Therapy Practitioner.  \nShe holds a Train The Trainer (TTT) certificate and is a voluntary guidance counselor for various schools. She promotes Satir’s model for self-growth and parent-child education.
URL:https://www.dancing-with-the-elephant.com/event/%e3%80%90%e7%88%b6%e6%af%8d%e5%be%9e%e5%bf%83%e5%ad%b8-%e5%a6%82%e4%bd%95%e8%ae%93%e5%ad%a9%e5%ad%90%e5%bf%ab%e6%a8%82%e5%8f%88%e8%87%aa%e4%bf%a1%e3%80%914%e5%a0%82/
CATEGORIES:線上直播
ATTACH;FMTTYPE=image/jpeg:https://www.dancing-with-the-elephant.com/wp-content/uploads/2023/06/父母從心學-橫式-秀玲.jpg
END:VEVENT
BEGIN:VEVENT
DTSTART;TZID=America/Los_Angeles:20230703T170000
DTEND;TZID=America/Los_Angeles:20230731T180000
DTSTAMP:20260423T172600
CREATED:20230530T032950Z
LAST-MODIFIED:20241004T092206Z
UID:10000106-1688403600-1690826400@www.dancing-with-the-elephant.com
SUMMARY:【視力煉睛術 - 眼睛瑜珈 Level 1】(5堂)
DESCRIPTION:大家都聽過，可能也學習過瑜珈，但什麼是「眼睛瑜珈EYE YOGA」呢? \n眼睛，是靈魂之窗，身體的感官是我們通向外界的窗戶，而五感當中視覺是最強大的，每天要接收80%的資訊。如何讓眼睛在三C產品環繞、資訊爆炸的現代科技社會中不疲勞、不受傷、放輕鬆的觀看? 學會用自然正確的方式照護眼睛很重要。 \n眼睛瑜珈EYE YOGA是一門簡單有效的健康技術，藉由改善視力、提高注意力和精神洞察力，有助於保護視力免受光線、緊張和其他環境條件的壓力，使雙眼保持放鬆、清爽和明亮。透過眼睛的放鬆，可以調整眼、腦、身、心、外在跟內在的健康頻率，因此，「視力健康」絕對是現代人最有價值的投資之一。 \n林祺海老師是Amar Eye Yoga India授權認證眼球瑜珈教師，接受印度阿育吠陀眼療權威醫生Dr.Amarjith培訓療癒眼腦身心，2018年底開始，在台灣各地教授超過300場眼睛瑜珈工作坊、講座、一對一教練課等，教學經驗豐富，且仍持續進修精進中。 \n這是一堂幫助我們 “知行合一、生活內化”，希望達到「用得輕鬆、看得清晰」目標的難得課程。一起來跟著林祺海老師學習平衡、鍛鍊眼睛的視覺調節能力，放鬆眼睛、控制聚焦，進一步練習放鬆使用眼球。  \n \n\n【講師簡介 】 \n林祺海  Marx Lin \n【個人簡歷】 \nAmar Eye Yoga India授權認證眼球瑜珈教師 \nHatha yoga teacher \n 印度阿育吠陀眼療權威醫生Dr.Amarjith培訓療癒眼腦身心 \n 2018年底開始在台灣北中南教授超過300場次眼睛瑜珈工作坊、各企業/教育單位講座、一對一教練課、身心健康私人旅遊服務 \n \n(PHOTO CREDTI / YII 創意文化) \n\n  \nInstructor:  Yao\, Pei-Hua \nEducation and Experience: \n• Education: Master’s Program in Psychological Counseling at Chinese Culture University\, Daytime Division \n• Current Position: Full-time Psychologist at Hua Yu Counseling Center (since 2023) \n• Experience: Full-time at Mackay Memorial Hospital Counseling Center (2010-2022) \nProfessional Licenses: \n• Counseling Psychologist in Taiwan  since2010\, license number 1491. \n• Certified Psychodramatist  by American Board of Examiners in Psychodrama\, Sociometry\, and Group Psychotherapy since 2017.
URL:https://www.dancing-with-the-elephant.com/event/test/
CATEGORIES:線上直播
ATTACH;FMTTYPE=image/jpeg:https://www.dancing-with-the-elephant.com/wp-content/uploads/2023/05/視力煉睛術-眼睛瑜珈-1_A-橫式.jpg
END:VEVENT
BEGIN:VEVENT
DTSTART;TZID=America/Los_Angeles:20230703T183000
DTEND;TZID=America/Los_Angeles:20230731T203000
DTSTAMP:20260423T172600
CREATED:20230517T020541Z
LAST-MODIFIED:20241004T092142Z
UID:10000079-1688409000-1690835400@www.dancing-with-the-elephant.com
SUMMARY:【阿德勒的幸福家庭學】(5堂)
DESCRIPTION:「家，是一個完整的圓，每位成員都有各自的承擔與貢獻。 \n如果說『一般的人際關係』的經營，是生命的選修課，那麼『家人的關係經營』就是必修課。」諮商心理師李家雯這麼說。 \n那，你的必修課修得如何？ \n李家雯(海蒂)老師，擅長將阿德勒心理學運用在各種生活領域，而且，她是少數於美國芝加哥阿德勒大學諮商心理學碩士畢業的諮商心理師。海蒂老師上課不僅活潑風趣，實例分享更令人印象深刻。此外，老師個人的創見，及個人感動誠心推薦的書籍、電視影劇等，都令學員收獲滿滿。 \n在課程中，老師會透過阿德勒的視角-相信人與人是「本質性價值的平等」，傳授學員家庭經營的策略，同時，藉由阿德勒學派所提倡的「平等與共好」態度，為學員們催化出在家庭關係中的勇氣和幸福之旅。 \n錯過上一堂精彩的「阿德勒帶你邁向幸福的四堂課」的同學們，這次人生的必修課，不容錯過。我們一起來拿「阿德勒的幸福家庭學」學分吧!  \n\n【課程大綱】 \n第一堂：伴侶相處「心」關係：家是個平等的團隊 \n\n 阿德勒相信人與人是「本質性價值的平等」，在一個穩健的家庭關係中，誰也不該被誰支配。透過阿德勒對於平等的闡述，理解建立健康家庭互動的本質與精髓。\n\n第二堂：成為孩子邁向世界的橋：辨識孩子的內在渴望與困擾行為 \n\n 每個人都有心中的內在渴望，只是孩子總用尚未成熟的大腦在向世界表達。於是身為父母，我們需要學習的是去看懂他們問題行為背後的內在正向意圖，協助孩子與在長大的過程，能與社會建立健康的連結。\n\n第三堂：與家人共好：課題分離的真正精髓 \n\n 即使我們是重要的家人，但我們依然是彼此生命裡的他人。健康的關係中，是明白每個人都是自我生命的主人，區分在互動中，哪些是屬於自己的責任，哪些是伴侶與孩子的責任，哪些又是「共同」的責任，才能避免自己過度介入他人的生活，也建立健康又穩固的「家庭關係」。\n\n \n第四堂：實戰技巧篇-教養與溝通中的要與不要 \n\n 有效溝通是穩健合作的重要關鍵，不論是大人與小孩，都需要透過「正向引導與溝通」來感受到自己被接納與連結，進而展現彼此合作與配合的意願。\n\n學習阿德勒的溝通法：不讚美、不命令、不責備，來協助我們邁向穩健合作的旅程。 \n第五堂：與未來合作：共譜幸福勇氣未來 \n\n 我們都在跌跌撞撞中進入婚姻與家庭，卻沒有機會思索愛與家庭在未來的具體模樣。當生活中我們都疲於奔命解決眼前困境，就會忘了「理想未來」該是什麼模樣？透過阿德勒Act As If 概念的闡述，我們學會「具有勇氣的家庭未來」可以是什麼模樣 。\n\n\n【講師簡介】 \n李家雯 (海蒂）Chia-wen Heidi Lee \n諮商心理師 【心諮字第000776號】 \n李家雯（海蒂）老師為少數於美國芝加哥阿德勒大學諮商心理學碩士畢業，回臺執業之諮商心理師。台灣首位整合阿德勒心理學理論與ＮＬＰ、整體療癒共融運用之實務助人工作者。擅長將阿德勒心理學運用在各種生活領域、人際溝通、企業教練、心理諮商、校園輔導、親職諮詢、個人激勵等。 \n \n\n 
URL:https://www.dancing-with-the-elephant.com/event/%e3%80%90%e9%98%bf%e5%be%b7%e5%8b%92%e7%9a%84%e5%b9%b8%e7%a6%8f%e5%ae%b6%e5%ba%ad%e5%ad%b8%e3%80%915%e5%a0%82/
CATEGORIES:線上直播
ATTACH;FMTTYPE=image/jpeg:https://www.dancing-with-the-elephant.com/wp-content/uploads/2023/05/阿德勒的幸福家庭學_B-1400-×-900-像素.jpg
END:VEVENT
BEGIN:VEVENT
DTSTART;TZID=America/Los_Angeles:20230704T180000
DTEND;TZID=America/Los_Angeles:20230718T200000
DTSTAMP:20260423T172600
CREATED:20230517T023417Z
LAST-MODIFIED:20241004T092119Z
UID:10000084-1688493600-1689710400@www.dancing-with-the-elephant.com
SUMMARY:【藝術療癒創作–靜心曼陀羅】(3堂)
DESCRIPTION: 藝術療癒創作是一種自我發現，也是自我與外在世界溝通的管道之一，可以說，藝術創作的過程就是療癒自我的過程。 \n鄭婷玫老師目前為個人與團體提供藝術輔療服務，是英國TQUK心理諮詢師、美國E.S.T.A.「傳承藝術」 國際認證講師，有多項認證與專業培訓經歷，曾在舞象開課「藝術療癒創作–自我關照與疼惜」。這次，鄭老師要帶領大家創作的主題是「靜心曼陀羅」。曼陀羅是一種源自印度教和佛教的圖形，代表宇宙的無限和完整性。曼陀羅的繪畫過程可以幫助人們放鬆身心，進入冥想狀態。在繪畫曼陀羅時，人們需要專注於圖案的重複和對稱性，這有助於減少焦慮和壓力。此外，曼陀羅的繪畫也可以幫助人們提高創造力和集中力。 \n  對於想紓壓或療癒心靈的朋友來說，藝術創作是一個值得考慮的選項，因為圖像筆觸比語言更能真實表現內心的感受，我們能透過創作的過程提昇自我的認識以及情緒上的平衡。歡迎舞象的新朋友老朋友一起來跟婷玫老師進行一場藝術療癒的ＳＰＡ，也可以互相分享陪伴自我的旅程。 \n\n【課程大綱】 \n一、認識曼陀羅繪畫 \n二、靜心曼陀羅創作 \n三、創作分享與交流 \n【學習目標】 \n為自己開闢一座心靈的秘密花園，拋開所有的疲憊與忙碌，回到當下，靜靜感受呼吸、享受色彩的療癒力，在對稱有序的曼陀羅繪畫中，找到內在的寧靜與安適。 \n \n【課前自備工具】 \n\n請於課前準備好工具\n\n1、8Ｋ圖畫紙＊3張 \n2、24色色鉛筆 \n3、圓規 \n4、30公分長尺 \n5、鉛筆、橡皮擦、書寫用紙 \n\n【講師簡介】 \n鄭婷玫 / TING-MEI CHANG \n  ■現職          \n「啊！玫子＠心靈藝術創作教室」帶領人 \n 傳承藝術（Legacy Art Work）帶領人 \n 個人/團體藝術輔療服務 \n \n\n 
URL:https://www.dancing-with-the-elephant.com/event/%e3%80%90%e8%97%9d%e8%a1%93%e7%99%82%e7%99%92%e5%89%b5%e4%bd%9c-%e9%9d%9c%e5%bf%83%e6%9b%bc%e9%99%80%e7%be%85%e3%80%913%e5%a0%82/
CATEGORIES:線上直播
ATTACH;FMTTYPE=image/jpeg:https://www.dancing-with-the-elephant.com/wp-content/uploads/2023/05/藝術療癒創作–靜心曼陀羅_A-橫式.jpg
END:VEVENT
BEGIN:VEVENT
DTSTART;TZID=America/Los_Angeles:20230705T180000
DTEND;TZID=America/Los_Angeles:20230726T200000
DTSTAMP:20260423T172600
CREATED:20230517T054440Z
LAST-MODIFIED:20241004T092057Z
UID:10000103-1688580000-1690401600@www.dancing-with-the-elephant.com
SUMMARY:【走過親密關係困境及衝突，為親密關係加溫】(4堂)
DESCRIPTION:【課程大綱】\n(1)關係中錯過了甚麼，信任產生了危機 \n課程大綱: 發生了什麼事，伴侶關係中的信任逐漸失去，使得親密感不再 \n學習目標: \n了解破壞關係的五個階段：滑動門時刻、遺憾事件、蔡格尼克效應、負向感覺彌漫、災難四騎士在伴侶關係中的重要性。 \n(2)一起修復關係的三大心法 \n課程大綱: 問題本身不是問題，修復的態度決定了未來 \n學習目標： \n(1)勇敢溝通面對，離開表面的和諧舒適圈。 \n(2)受創傷口的癒合需要時間與耐心，彼此包容不可少。 \n(3)彼此共度寶貴的珍珠時間。 \n (3)我們有溝沒有通嗎? ATTUNE 六步驟的好方法 \n課程大綱: 學會溝通時刻的好態度，讓關係更加親近   \n學習目標: \n說話者可以學習: \nA (Awareness)覺察，T 寬容(Tolerance)，T將批評轉化為希望（Transforming criticisms into wishes and positive needs）。 \n傾聽者可以學習: \nU（Understanding）理解，N（Non-defensive listening）無防衛傾聽， \nE（Empathy）同理心。 \n(4)原生家庭與親密關係 \n課程大綱:原生家庭對於伴侶關係有巨大的影響，我們無法避免原生家庭的影響 \n但我們可以在伴侶關係中有所覺察，走出不同於以往的選擇。 \n學習目標： \n我們是如何複製父母相處的互動模式。 \n親密關係重現兒時的熟悉感。 \n將伴侶理想化的期望與失落。 \n兒時的未滿足期待放在伴侶身上。 \n覺察情緒按鈕和深藏的脆落經驗。 \n \n\n【講師簡介】  \n姜尚文心理師 /  Alex Chiang   \n證照 \n台灣諮商心理師證照 \n台灣醫事檢驗師證照 \n美國及台灣薩提爾學派伴侶婚姻治療師 \n美國NBCC分會認證 GCDF全球職涯發展師 \n台北市政府自殺防治守門人高階講師 \nEAP職場員工心理健康諮詢師和管理師  \n專業 \n職涯探索與規劃，伴侶關係和婚姻適應與衝突、深度自我探索與成長、 \n親子關係、壓力調適與適應、人際關係互動議題、 \n憂鬱，焦慮及其他身心症狀困擾。 \n學經歷 \n淡江大學教育心理與諮商研究所 碩士 \n台灣大學生物化學研究所 碩士 \n中華福音神學院聖經研究 碩士 \n台北暖心全人諮商中心執行長和資深心理師 \n《懂心理，調出好關係Podcast》節目製作及主持人 \n淡江大學特約心理師 \n台北市自殺防治守門人高階講師 \n各大企業及大專院校講座講師 \n台新銀行、亞尼克、聯合製藥、台灣船務、台灣碩網等企業、台灣大學、台北大學、台灣科技大學、長庚大學、淡江大學、中國科技大學、康橋國際學校、台北市心衛中心、台北市立聯合醫院忠孝院區、基隆市家庭衛生教育中心等單位講師。 \n\n\n【Instructor】\nAlex Chiang\, Counseling Psychologist \nLicenses: \nLicensed Counseling Psychologist\, Taiwan \nLicensed Medical Laboratory Technologist\, Taiwan \nSatir Couples & Marriage Therapist\, Taiwan & USA \nNBCC Global Career Development Facilitator\, USA \nSenior Lecturer on Suicide Prevention\, Taipei City Government \nEAP Workplace Employee Psychological Health Consultant and Manager \nEducation and Experience: \nMaster of Education Psychology and Counseling\, Tamkang University \nMaster of Biochemistry\, National Taiwan University \nMaster of Biblical Studies\, China Evangelical Seminary \nCEO and Senior Psychologist of Taipei Warm-hearted Counseling Center \nProducer and Host of “Understanding Psychology\, Adjusting Good Relationships” podcast \nAdjunct Psychologist of Tamkang University \nSenior Lecturer on Suicide Prevention\, Taipei City Government \nLecturer at various large enterprises and universities \nSpeaker for numerous business organizations\, colleges\, and educational institutions.
URL:https://www.dancing-with-the-elephant.com/event/%e3%80%90%e8%b5%b0%e9%81%8e%e8%a6%aa%e5%af%86%e9%97%9c%e4%bf%82%e5%9b%b0%e5%a2%83%e5%8f%8a%e8%a1%9d%e7%aa%81%ef%bc%8c%e7%82%ba%e8%a6%aa%e5%af%86%e9%97%9c%e4%bf%82%e5%8a%a0%e6%ba%ab%e3%80%914%e5%a0%82/
CATEGORIES:線上直播
ATTACH;FMTTYPE=image/jpeg:https://www.dancing-with-the-elephant.com/wp-content/uploads/2023/05/走過親密關係-1400-×-900-像素.jpg
END:VEVENT
BEGIN:VEVENT
DTSTART;TZID=America/Los_Angeles:20230706T180000
DTEND;TZID=America/Los_Angeles:20230706T200000
DTSTAMP:20260423T172600
CREATED:20230512T090145Z
LAST-MODIFIED:20241004T092017Z
UID:10000107-1688666400-1688673600@www.dancing-with-the-elephant.com
SUMMARY:【從幼兒閱讀到親子共讀、獨立閱讀】(單堂)
DESCRIPTION:「閱讀」一直是美國的基礎教育裡最受重視，也最被強調的一項學習。 \n從幼兒的床邊故事、親子共讀，到能獨立閱讀，美式教育提供各個年紀的推薦書單，閱讀也是每天都有的回家功課。 \n近幾年來，台灣教育漸漸脫離填鴨，開始強調多樣閱讀對提升自我能力的助益，而閱讀也正是寫出好作文的根基。 \n指導學生征戰各類作文比賽十幾年的林怡辰老師，獲多類獎項，並已出版四本著作。 \n怡辰老師深知從小培養閱讀的重要性，藉著國小低中高年級導師和閱讀班寫作營指導老師的經歷，一步步引領著孩子們沈浸於書香世界，同時深入了解學生們在閱讀寫作時遇到的困難，在課程中與您分享最佳的解決方案。 \n在家庭中帶領孩子發現閱讀之美，讓讀書變成自然而然的習慣，這是媽媽爸爸們都不容錯過的一堂課。 \n當孩子進入閱讀的多元宇宙，更容易發覺自我喜好、延伸學習觸角，能在廣闊無窮的閱讀天地裡無限暢遊，把所思所想化為辭意通達的文章，這將是一生受用的美好禮物。 \n邀請您一起將這份禮物傳給我們的下一代！ \n \n\n【課程大綱】\n\n幼兒閱讀三階段\n\n幼兒閱讀帶領實做\n\n幼兒書單\n\n低中高年級閱讀重點\n\n低中高年級閱讀困難解決\n\n【學習目標】\n\n一、家長可以了解幼兒閱讀的實施重點\n\n二、學齡家長可以了解特階段閱讀帶領重點、書單及困難解決方式\n\n【講師簡介】\n\n林怡辰 / Yichan Lin\n\n服務學校：彰化縣二林鎮原斗國民中小學國小部\n\n【經歷】\n\n\n教師 / 行政\n\n\n閱讀帶領 / 指導寫作 / 校園演講 / 親職教育推廣 / \n\n\n【著作】\n\n《從讀到寫》\n\n《小學生年度學習行事曆》\n\n《怡辰老師的高效時間管理課》\n\n《發現驚奇圖書館》\n\n【獲獎】\n\n（一）榮獲教育部101年度閱讀磐石個人獎、102年天下雜誌閱讀典範教師\n\n            協助成功國小榮獲102閱讀磐石學校\n\n（二）彰化縣100年教師組作文比賽第二名\n\n（三）彰化縣101年度教師創新教學及班級經營國小中年級銀質獎（以科任教師身份）\n\n（四）部落格榮獲第一屆教育部落格大賽全國前20名。\n \n\n 
URL:https://www.dancing-with-the-elephant.com/event/%e3%80%90%e5%be%9e%e5%b9%bc%e5%85%92%e9%96%b1%e8%ae%80%e5%88%b0%e8%a6%aa%e5%ad%90%e5%85%b1%e8%ae%80%e3%80%81%e7%8d%a8%e7%ab%8b%e9%96%b1%e8%ae%80%e3%80%91%e5%96%ae%e5%a0%82/
CATEGORIES:線上直播
ATTACH;FMTTYPE=image/png:https://www.dancing-with-the-elephant.com/wp-content/uploads/2023/05/從幼兒閱讀到親子共讀、獨立閱讀1400-×-900-像素.png
END:VEVENT
BEGIN:VEVENT
DTSTART;TZID=America/Los_Angeles:20230707T163000
DTEND;TZID=America/Los_Angeles:20230721T203000
DTSTAMP:20260423T172600
CREATED:20230516T104606Z
LAST-MODIFIED:20241004T091940Z
UID:10000060-1688747400-1689971400@www.dancing-with-the-elephant.com
SUMMARY:【療癒關係也療癒自己-心理劇工作坊】(3堂)
DESCRIPTION:【課程大綱】\n(一)從 繪本 探索關係 \n課中準備了一個繪本故事要跟您們分享，引導參與學員藉由此繪本故事，重新探索一段重要的關係，覺察內在對關係的需要，擴大自己行為的選擇。 \n(二)從 相片 探尋自我 \n照片充滿著令人難忘的回憶，有笑容、有懷念、有難捨……都具獨特紀念性，透過心理劇重現照片中的互動，打開記憶皺摺處，陪伴失落連結愛，創造更多的可能性。 \n(三)人我關係的黃金圈 \n以自身為基點，看看周遭環境有哪些人與之有重要的連結，定位出心理感知上的親疏遠近，練習將滋養支持的關係往內移；不舒服的關係往外移。 \n\n 【講師介紹】\n姚珮華 / Yao\, Pei-Hua \n【學經歷】 \n⚫ 學歷：中國文化大學日間部心理輔導系碩士班 \n⚫ 現職：話嶼心理諮商所 專任心理師 (2023年迄今) \n⚫ 經歷：馬偕紀念醫院協談中心 專任 (2010年2022年) \n【專業證照】 \n⚫ 2010年 中華民國諮商心理師高考通過 諮心字第 1491 號 \n⚫ 2017年 美國心理劇社會計量與團體心理治療考試委員會 \n（ American Board of Examiners in Psychodrama\, Sociometry and Group Psychotherapy ） \n認證合格心理劇導演 (Certified) \n【帶領經驗】 \n社福 ╴機構在職教育/ 志工訓練/ 團體帶領者 \n學校 ╴心理衛生講座/ 成長團體帶領者 \n企業 ╴場域心衛 /教育講師 \n教會 ╴場域心理/課程講師 \n海外 ╴中國、馬來西亞等/教學經驗 \n\n \n\nInstructor:  Yao\, Pei-Hua \nEducation and Experience: \n• Education: Master’s Program in Psychological Counseling at Chinese Culture University\, Daytime Division \n• Current Position: Full-time Psychologist at Hua Yu Counseling Center (since 2023) \n• Experience: Full-time at Mackay Memorial Hospital Counseling Center (2010-2022) \nProfessional Licenses: \n• Counseling Psychologist in Taiwan  since2010\, license number 1491. \n• Certified Psychodramatist  by American Board of Examiners in Psychodrama\, Sociometry\, and Group Psychotherapy since 2017.
URL:https://www.dancing-with-the-elephant.com/event/%e3%80%90%e7%99%82%e7%99%92%e9%97%9c%e4%bf%82%e4%b9%9f%e7%99%82%e7%99%92%e8%87%aa%e5%b7%b1-%e5%bf%83%e7%90%86%e5%8a%87%e5%b7%a5%e4%bd%9c%e5%9d%8a%e3%80%913%e5%a0%82/
CATEGORIES:線上直播
ATTACH;FMTTYPE=image/jpeg:https://www.dancing-with-the-elephant.com/wp-content/uploads/2024/04/舞象封面.jpeg
END:VEVENT
END:VCALENDAR